BEGIN:VCALENDAR
VERSION:2.0
PRODID:-//wp-events-plugin.com//7.2.2.1//EN
TZID:Europe/Stockholm
X-WR-TIMEZONE:Europe/Stockholm
BEGIN:VEVENT
UID:589@suvaros.se
DTSTART;TZID=Europe/Stockholm:20250324T140000
DTEND;TZID=Europe/Stockholm:20250324T160000
DTSTAMP:20241126T103023Z
URL:https://suvaros.se/evenemang/149-ukraina-och-sverige-mer-gemensamt-an-
 bara-gult-och-blatt/
SUMMARY:149  Ukraina och Sverige – mer gemensamt än bara gult och blått
DESCRIPTION:Föreläsare: Håkan Henriksson\n\nDet är inte bara de blå oc
 h gula färgerna som Ukraina och Sverige har gemensamt. De bägge ländern
 a har nämligen en lång gemensam historia som sträcker sig över tusen 
 år tillbaka i tiden. Alltifrån vikingen Rurik till tiden när vi faktisk
 t hade en gemensam kung i slutet av 1500-talet. På 1650-talet och i bör
 jan av 1700-talet bildade vi stundtals allianser mot det framväxande oc
 h aggressiva moskovitiska riket. Ibland har vi givetvis också varit fiend
 er och många ukrainska kosacker har hamnat som krigsfångar i Sverige. M
 ånga har nog också hört talas om en gammal svensk by i södra Ukraina.\
 n\nVärd: Ingrid Edlund
CATEGORIES:Föreläsningar
LOCATION:Konsertsalen\, Växhuset\, Viktor Larssons plats 1\, Västerås\, 
 722 14\, Sverige
X-APPLE-STRUCTURED-LOCATION;VALUE=URI;X-ADDRESS=Viktor Larssons plats 1\, V
 ästerås\, 722 14\, Sverige;X-APPLE-RADIUS=100;X-TITLE=Konsertsalen\, Vä
 xhuset:geo:0,0
END:VEVENT
BEGIN:VTIMEZONE
TZID:Europe/Stockholm
X-LIC-LOCATION:Europe/Stockholm
BEGIN:STANDARD
DTSTART:20241027T020000
TZOFFSETFROM:+0200
TZOFFSETTO:+0100
TZNAME:CET
END:STANDARD
END:VTIMEZONE
END:VCALENDAR