BEGIN:VCALENDAR
VERSION:2.0
PRODID:-//wp-events-plugin.com//7.2.2.1//EN
TZID:Europe/Stockholm
X-WR-TIMEZONE:Europe/Stockholm
BEGIN:VEVENT
UID:183@suvaros.se
DTSTART;TZID=Europe/Stockholm:20210304T160000
DTEND;TZID=Europe/Stockholm:20210304T174500
DTSTAMP:20210222T103045Z
URL:https://suvaros.se/evenemang/320-fran-elvis-till-abba-rock-och-popmusi
 kens-utveckling/
SUMMARY:320 Från Elvis till ABBA – Rock- och popmusikens utveckling
DESCRIPTION:Varje vecka  torsdagar  7 ggr.  10 delt.  Kursledare Henric
  Lindborg\n\nHäng med på en lekfull tidsresa i rock- och popmusikens vä
 rld från 50- till 80-talet. Hur uppstod olika stilar och genrer och vilka
  ledde utvecklingen? Under denna spännande musikresa gör vi djupdykninga
 r i bl.a. Elvis\, Beatles\, Tio i topp och ABBA. Kursledaren varvar inspir
 erande föreläsningar med ljud- och bildklipp.
CATEGORIES:Kurser
LOCATION:Växhuset\, Viktor Larssons plats 1\, Västerås\, 72214\, Sverige
X-APPLE-STRUCTURED-LOCATION;VALUE=URI;X-ADDRESS=Viktor Larssons plats 1\, V
 ästerås\, 72214\, Sverige;X-APPLE-RADIUS=100;X-TITLE=Växhuset:geo:0,0
END:VEVENT
BEGIN:VTIMEZONE
TZID:Europe/Stockholm
X-LIC-LOCATION:Europe/Stockholm
BEGIN:STANDARD
DTSTART:20201025T020000
TZOFFSETFROM:+0200
TZOFFSETTO:+0100
TZNAME:CET
END:STANDARD
END:VTIMEZONE
END:VCALENDAR