BEGIN:VCALENDAR
VERSION:2.0
PRODID:-//wp-events-plugin.com//7.2.2.1//EN
TZID:Europe/Stockholm
X-WR-TIMEZONE:Europe/Stockholm
BEGIN:VEVENT
UID:658@suvaros.se
DTSTART;TZID=Europe/Stockholm:20250925T100000
DTEND;TZID=Europe/Stockholm:20251204T120000
DTSTAMP:20250912T061037Z
URL:https://suvaros.se/evenemang/417-raritetskabinettet-och-stiftsbibliote
 ket/
SUMMARY:417 Raritetskabinettet och Stiftsbiblioteket
DESCRIPTION:Torsdag      4 ggr.      10 delt.       Övriga kur
 sdatum: 16/10\, 12/11\, 4/12          Kursledare Mats Jos\n\nBibliote
 karie Pia Letalick Rinaldi leder kursen på biblioteket.\nÄr du intresser
 ad av böcker och historia och vill veta mer om äldre böcker och handskr
 ifter? Är du nyfiken på de unika böckerna – en del från 1400-talet 
 – som finns i Västerås Stiftsbiblioteks samlingar? Vi träffas vid fyr
 a tillfällen för att få en inblick i både vår lokala bokhistoria och 
 den europeiska. Vi kommer att genom autentiskt material lära oss mer om h
 andskrifter\, bokmåleri\, typsnitt\, papper\, bokband\, Västerås trycke
 rihistoria och mycket mer.\nAvgift 300 kr
CATEGORIES:Kurser
LOCATION:Västerås Stadsbibliotek\, Biskopsgatan 2\, Västerås\, 72211\, 
 Sverige
X-APPLE-STRUCTURED-LOCATION;VALUE=URI;X-ADDRESS=Biskopsgatan 2\, Västerås
 \, 72211\, Sverige;X-APPLE-RADIUS=100;X-TITLE=Västerås Stadsbibliotek:ge
 o:0,0
END:VEVENT
BEGIN:VTIMEZONE
TZID:Europe/Stockholm
X-LIC-LOCATION:Europe/Stockholm
BEGIN:DAYLIGHT
DTSTART:20250330T030000
TZOFFSETFROM:+0100
TZOFFSETTO:+0200
TZNAME:CEST
END:DAYLIGHT
BEGIN:STANDARD
DTSTART:20251026T020000
TZOFFSETFROM:+0200
TZOFFSETTO:+0100
TZNAME:CET
END:STANDARD
END:VTIMEZONE
END:VCALENDAR