BEGIN:VCALENDAR
VERSION:2.0
PRODID:-//wp-events-plugin.com//7.2.2.1//EN
TZID:Europe/Stockholm
X-WR-TIMEZONE:Europe/Stockholm
BEGIN:VEVENT
UID:250@suvaros.se
DTSTART;TZID=Europe/Stockholm:20211108T140000
DTEND;TZID=Europe/Stockholm:20211108T154500
DTSTAMP:20210518T093558Z
URL:https://suvaros.se/evenemang/54-digital-ekonomi-upptack-en-ny-varld/
SUMMARY:54 Digital ekonomi – upptäck en ny värld
DESCRIPTION:Värd: Christina Norén Svensson\n\nSamhället blir mer och mer
  digitalt och utvecklingen öppnar upp för nya möjligheter. Samtidigt ka
 n det kännas svårt att hänga med eller ta till sig den nya tekniken.\n\
 nSevim Isaac\, som är privatrådgivare och digital ambassadör på Swedba
 nk i Västerås kommer att berätta mer om Bank ID\, Swish och om digital 
 säkerhet.
CATEGORIES:Föreläsningar
LOCATION:Konsertsalen\, Växhuset\, Viktor Larssons plats 1\, Västerås\, 
 722 14\, Sverige
X-APPLE-STRUCTURED-LOCATION;VALUE=URI;X-ADDRESS=Viktor Larssons plats 1\, V
 ästerås\, 722 14\, Sverige;X-APPLE-RADIUS=100;X-TITLE=Konsertsalen\, Vä
 xhuset:geo:0,0
END:VEVENT
BEGIN:VTIMEZONE
TZID:Europe/Stockholm
X-LIC-LOCATION:Europe/Stockholm
BEGIN:STANDARD
DTSTART:20211031T020000
TZOFFSETFROM:+0200
TZOFFSETTO:+0100
TZNAME:CET
END:STANDARD
END:VTIMEZONE
END:VCALENDAR