BEGIN:VCALENDAR
VERSION:2.0
PRODID:-//wp-events-plugin.com//7.2.2.1//EN
TZID:Europe/Stockholm
X-WR-TIMEZONE:Europe/Stockholm
BEGIN:VEVENT
UID:383@suvaros.se
DTSTART;TZID=Europe/Stockholm:20230302T090000
DTEND;TZID=Europe/Stockholm:20230511T104500
DTSTAMP:20230109T144543Z
URL:https://suvaros.se/evenemang/708-slaktforskning/
SUMMARY:708 Släktforskning
DESCRIPTION:Udda vecka      torsdag    6 ggr.      19 delt.     
   Lars Berglöf\n\nVi lär oss släktforskningens grunder. Hur hittar jag
  uppgifter om min släkt? Vilka är mina anor? Var bodde tidigare generati
 oner och vad arbetade de med? Vi lär oss hitta i kyrkböckerna och du beh
 över ha tillgång till dator för att söka i arkiven och spara dina fynd
  i ett släktforskningsprogram. Helst bör du ha en bärbar dator och vara
  van att använda den. Kostnad för kurslitteratur tillkommer.\nAvgift 325
  kr
CATEGORIES:Kurser
LOCATION:Växhuset\, Viktor Larssons plats 1\, Västerås\, 72214\, Sverige
X-APPLE-STRUCTURED-LOCATION;VALUE=URI;X-ADDRESS=Viktor Larssons plats 1\, V
 ästerås\, 72214\, Sverige;X-APPLE-RADIUS=100;X-TITLE=Växhuset:geo:0,0
END:VEVENT
BEGIN:VTIMEZONE
TZID:Europe/Stockholm
X-LIC-LOCATION:Europe/Stockholm
BEGIN:STANDARD
DTSTART:20221030T020000
TZOFFSETFROM:+0200
TZOFFSETTO:+0100
TZNAME:CET
END:STANDARD
BEGIN:DAYLIGHT
DTSTART:20230326T030000
TZOFFSETFROM:+0100
TZOFFSETTO:+0200
TZNAME:CEST
END:DAYLIGHT
END:VTIMEZONE
END:VCALENDAR